BEGIN:VCALENDAR
VERSION:2.0
PRODID:-//EYEVEE - ECPv6.15.13.1//NONSGML v1.0//EN
CALSCALE:GREGORIAN
METHOD:PUBLISH
X-ORIGINAL-URL:https://eyevee.org
X-WR-CALDESC:Events for EYEVEE
REFRESH-INTERVAL;VALUE=DURATION:PT1H
X-Robots-Tag:noindex
X-PUBLISHED-TTL:PT1H
BEGIN:VTIMEZONE
TZID:UTC
BEGIN:STANDARD
TZOFFSETFROM:+0000
TZOFFSETTO:+0000
TZNAME:UTC
DTSTART:20240101T000000
END:STANDARD
END:VTIMEZONE
BEGIN:VEVENT
DTSTART;TZID=UTC:20251003T170000
DTEND;TZID=UTC:20251029T200000
DTSTAMP:20260423T235337
CREATED:20260204T185954Z
LAST-MODIFIED:20260204T190011Z
UID:51440-1759510800-1761768000@eyevee.org
SUMMARY:October Gallery Night with Craig Mains
DESCRIPTION:Celebration Folly\nFriday October 3rd 5-8pm\nThe subject of my prints include things that have gone awry typically by natural causes or human miscalculation. Large man-made objects and proscribed spaces appear to me as attractors of natural malaise: bridges beckon rivers to swell and wash out\, trailer parks are tornado magnets\, golf courses want to be struck by lightning and offshore oil platforms are asking for a storm surge. \nMany of the works in this exhibit pertain to a kind of celebration folly. In an attempt to create awesome splendor to mark important dates\, celebrations can turn to devastation. Gender reveal parties have sent pipe bombs into grandmas\, caused numerous small fires and two major forest fires\, and at least 3 plane crashes. The manufacture of fireworks is dangerous and workplace slip-ups can level entire city blocks. Seeing the incredible force and beauty of these sparkling explosions creates a dissidence between horror\, awe and delight. \nThis program is made possible in part with funds from the Statewide Community Regrant program from the New York State Council on the Arts\, with the support of the office of the Governor and NYS Legislature\, administered by the Community Arts Partnership of Tompkins County.
URL:https://eyevee.org/event/october-gallery-night-with-craig-mains-2/
LOCATION:NY
ATTACH;FMTTYPE=image/jpeg:https://eyevee.org/press/wp-content/uploads/2026/02/C.Mains_Enschede-Fireworks-Factory-Explosion-1.jpg
END:VEVENT
END:VCALENDAR