BEGIN:VCALENDAR
VERSION:2.0
PRODID:-//EYEVEE - ECPv6.15.13.1//NONSGML v1.0//EN
CALSCALE:GREGORIAN
METHOD:PUBLISH
X-ORIGINAL-URL:https://eyevee.org
X-WR-CALDESC:Events for EYEVEE
REFRESH-INTERVAL;VALUE=DURATION:PT1H
X-Robots-Tag:noindex
X-PUBLISHED-TTL:PT1H
BEGIN:VTIMEZONE
TZID:UTC
BEGIN:STANDARD
TZOFFSETFROM:+0000
TZOFFSETTO:+0000
TZNAME:UTC
DTSTART:20240101T000000
END:STANDARD
END:VTIMEZONE
BEGIN:VEVENT
DTSTART;TZID=UTC:20251221T140000
DTEND;TZID=UTC:20251221T160000
DTSTAMP:20260423T222828
CREATED:20251220T193542Z
LAST-MODIFIED:20251220T193542Z
UID:51402-1766325600-1766332800@eyevee.org
SUMMARY:December 2025 :: IN PROCESS Collective Residency :: IV_Gallery :: o p e n h o u s e
DESCRIPTION:v e n u e \nIV Gallery @ Cortright Electric \n653 Elmira Road Ithaca\, between the graveyard and grayhaven motel\, rt. 13 \no p e n h o u s e \nIN PROCESS: A COLLECTIVE RESIDENCY \nJon Bailiff \nBlake Fall-Conroy \nCore Sample Collective \nWerner Sun \nJessica Warner \nMelissa Zarem \nv i s i t i n g h o u r s \nDecember 21\, 2025 2pm – 4pm \nl o g i s t i c s     \nparking at cemetery preferred \nfront house by the road \nenter in the back \ntoilet at grayhaven \nrespect resident privacy \nthis machine kills fascists \nt h e r e s i d e n c y\nVisual artists are often makers of objects\, but sometimes these finished pieces hide the process by which they came to be. “In Process” is a residency of artists and collectives who will transform IV Gallery @ Cortright Electric into a site of improvisation and play. \nDuring this extended performance\, individual projects and installations will mingle and overlap as they evolve. The artists will be working with a variety of materials — weavings\, soil samples\, paintings\, prints\, videos\, sculpture\, and electronics — and the outcome of this residency will be the curiosity and experimentation that is generated along the way. \nJon Bailiff is a visiting Artist-in-Residence at EYEVEE working in fiber\, photography/video\, physical presence\, painting\, printing\, and improvisatory installation. A UW-Madison alumnus\, Bailiff has designed for the Ukraine We Are Here multi-media exhibition\, the late Frank Moore’s performance set design\, Fish-Ins: Black Native Solidarity in the 60s\, 1000 Artists@Inauguration\, and the Santa Cruz Museum of Art and History’s Shadow Theater. He served on the original Santa Cruz Public Arts Commission and teaches multi-media art\, from weaving to robotics.Blake Fall-Conroy is an artist and self-taught mechanical engineer. Born in Baltimore\, Maryland\, he received his BFA in Sculpture from Cornell University and MFA in Art and Technology Studies from School of the Art Institute of Chicago. His artmaking practice is conceptually motivated\, engaging with a wide range of social issues from consumerism and the American spectacle\, to surveillance and the ubiquitous use of technology. Fall-Conroy’s projects often incorporate mechanical\, electronic\, or programmed components as well as objects or motifs found within the routine of daily life.Core Sample: A group of collaborators collected a deep soil core sample at the Soil Factory this November. This action was generated by a simple question: Does the soil have memory? After several attempts\, we found a soft spot and took samples down to 10 feet using an auger. Participants — Anna Ialeggio\, Johannes Lehmann\, Tammo Steenhuis\, Dan Torop\, Naaran Brindt\, Jared May\, Annette Dathe\, Steve Pacenka\, Bob Schindelbeck\, Matthew Fenn\, Caitlyn Hatzell\, and Laura Robert — utilized a FWD truck\, trowels and wrenches\, The Giddings Soil Sampling Coring Probe\, photographic prints\, and test results from a geochemical lab & ceramic studio. As we (soil scientists\, ceramicists\, geochemists\, machinists\, engineers\, and photographers) interpret what we encountered\, this project explores our memories of a cold day in the field.Werner Sun is a visual artist with a background in physics\, who lives and works in Ithaca\, NY. He uses repetitive manual processes to slowly transform digital images into sculptural objects that evoke the gradual accumulation of knowledge in science. Commissioned for Cornell University’s Mann Library and Botanic Gardens\, Sun has exhibited at the Memorial Art Gallery of the University of Rochester and Manifest Gallery. A 2019 Aon-CUE Artist Empowerment Award recipient\, his work explores how scientific methods and artistic processes reveal our complex relationship to perception and understanding.Jessica Warner creates paintings\, drawings\, and is working in printmaking as the Khan Family Fellow at the Ink Shop in Ithaca\, NY. Her work explores how meaning evolves through the processes of making and looking. She has been a Resident at the Vermont Studio Center\, and exhibited at The Kirkland Art Center and Neighbors Gallery. Her work is represented in collections at Cornell University and The Upstate Cancer Center. She studied at SUNY Purchase and has taught at the Community School of Music and Art\, and Ithaca College. \nMelissa Zarem is an abstract painter whose layered\, experimental works explore the boundaries of perception. Her pieces\, acquired by the Herbert F. Johnson Museum of Cornell University’s permanent collection\, challenge viewers’ understanding of truth through intricate mixed-media compositions. A recipient of grants from the Constance Saltonstall Foundation and Vermont Studio Center\, Zarem has exhibited nationally\, including at Aqua Art Miami and the Abrons Art Center. Her black and white drawing book\, Spring Loaded\, showcases her distinctive artistic vision.
URL:https://eyevee.org/event/december-2025-in-process-collective-residency-iv_gallery-o-p-e-n-h-o-u-s-e/
LOCATION:IV Gallery @ Cortright Electric\, 653 Elmira Rd.\, Ithaca\, NY\, 14850\, United States
ATTACH;FMTTYPE=image/jpeg:https://eyevee.org/press/wp-content/uploads/2025/12/nggallery_import/in-process-collective-residency.jpg
END:VEVENT
END:VCALENDAR