BEGIN:VCALENDAR
VERSION:2.0
PRODID:-//EYEVEE - ECPv6.15.13.1//NONSGML v1.0//EN
CALSCALE:GREGORIAN
METHOD:PUBLISH
X-WR-CALNAME:EYEVEE
X-ORIGINAL-URL:https://eyevee.org
X-WR-CALDESC:Events for EYEVEE
REFRESH-INTERVAL;VALUE=DURATION:PT1H
X-Robots-Tag:noindex
X-PUBLISHED-TTL:PT1H
BEGIN:VTIMEZONE
TZID:UTC
BEGIN:STANDARD
TZOFFSETFROM:+0000
TZOFFSETTO:+0000
TZNAME:UTC
DTSTART:20250101T000000
END:STANDARD
END:VTIMEZONE
BEGIN:VEVENT
DTSTART;TZID=UTC:20260409T170000
DTEND;TZID=UTC:20260409T190000
DTSTAMP:20260423T163810
CREATED:20260411T182009Z
LAST-MODIFIED:20260411T182441Z
UID:51508-1775754000-1775761200@eyevee.org
SUMMARY:April 2026 :: SMACK // IC Photobook Exhibition :: IV_Gallery :: o p e n h o u s e
DESCRIPTION:v e n u e \nIV Gallery @ Cortright Electric \n653 Elmira Road Ithaca\, between the graveyard and grayhaven motel\, rt. 13 \n  \no p e n h o u s e \nSMACK // IC Photobook Exhibition \n  \no p e n i n g\n\nTuesday  April 07  5-7pm\n \n\nl o g i s t i c s     \nparking at cemetery preferred \nfront house by the road \nenter in the back \ntoilet at grayhaven \nrespect resident privacy \nthis machine kills fascists \n  \nIthaca College Photobook class presents SMACK\, a site-specific installation of found images and ephemera from the Cortright family archive with new photographs taken in response\, presented at the old yellow family home at 653 Elmira Road\, Ithaca\, NY on the walls and within a series of 14 photobooks.  \n \nCORTRIGHT ELECTRIC has reemerged as EYEVEE Inlet Valley Arts\, a new local art venue on Route 13 between the Grayhaven Motel and the Inlet Valley Cemetery.  \n \nThis project is presented by photography students Brendan Elliott\, Shay Featherstone\, Emily Ferencsik\, Patrick Keeble\, Ruby Kiesewalter\, Sydney Lombara\, Joey Martucci\, Sonia Mlakar\, Nathan Mullen\, Gus Nocera\, Lily Parlakian\, Ava Pennell\, Jane Pipher\, Marc Slaymaker; and Assistant Professor of Photography Christine Elfman.  \n \nOPEN HOUSE EVENT Tuesday\, April 7th from 5-7pm.  Parking at cemetery preferred.\n​​​ \n\n\n\n		\n				\n						\n			\n								\n			\n		\n							\n			\n	\n	\n\n	\n		\n			\n________
URL:https://eyevee.org/event/april-2026-smack-ic-photobook-exhibition-iv_gallery-o-p-e-n-h-o-u-s-e/
LOCATION:IV Gallery @ Cortright Electric\, 653 Elmira Rd.\, Ithaca\, NY\, 14850\, United States
CATEGORIES:IV Gallery
ATTACH;FMTTYPE=image/png:https://eyevee.org/press/wp-content/uploads/2026/04/image-scaled.png
END:VEVENT
END:VCALENDAR