BEGIN:VCALENDAR
VERSION:2.0
PRODID:-//EYEVEE - ECPv6.15.13.1//NONSGML v1.0//EN
CALSCALE:GREGORIAN
METHOD:PUBLISH
X-ORIGINAL-URL:https://eyevee.org
X-WR-CALDESC:Events for EYEVEE
REFRESH-INTERVAL;VALUE=DURATION:PT1H
X-Robots-Tag:noindex
X-PUBLISHED-TTL:PT1H
BEGIN:VTIMEZONE
TZID:America/New_York
BEGIN:DAYLIGHT
TZOFFSETFROM:-0500
TZOFFSETTO:-0400
TZNAME:EDT
DTSTART:20240310T070000
END:DAYLIGHT
BEGIN:STANDARD
TZOFFSETFROM:-0400
TZOFFSETTO:-0500
TZNAME:EST
DTSTART:20241103T060000
END:STANDARD
BEGIN:DAYLIGHT
TZOFFSETFROM:-0500
TZOFFSETTO:-0400
TZNAME:EDT
DTSTART:20250309T070000
END:DAYLIGHT
BEGIN:STANDARD
TZOFFSETFROM:-0400
TZOFFSETTO:-0500
TZNAME:EST
DTSTART:20251102T060000
END:STANDARD
BEGIN:DAYLIGHT
TZOFFSETFROM:-0500
TZOFFSETTO:-0400
TZNAME:EDT
DTSTART:20260308T070000
END:DAYLIGHT
BEGIN:STANDARD
TZOFFSETFROM:-0400
TZOFFSETTO:-0500
TZNAME:EST
DTSTART:20261101T060000
END:STANDARD
END:VTIMEZONE
BEGIN:VEVENT
DTSTART;TZID=America/New_York:20250219T180000
DTEND;TZID=America/New_York:20250219T200000
DTSTAMP:20260424T164911
CREATED:20250223T154553Z
LAST-MODIFIED:20251220T194942Z
UID:51227-1739988000-1739995200@eyevee.org
SUMMARY:Art-Tech Meet-Up
DESCRIPTION:art-tech meet up. first wednesdays\, 6pm – 8pm. hang with friends\, work on a project\, learn new things\, get help. arduino\, physical computing\, code interactivity\, net art\, robotics\, circuitry\, audiovisual. an eyevee arts project. see contact email on flier.
URL:https://eyevee.org/event/art-tech-meet-up-7-2-2/
LOCATION:Grayhaven Motel Lounge\, 657 Elmira Rd\, Ithaca\, NY\, 14850\, United States
CATEGORIES:Inlet Valley Arts,Motel Events
ATTACH;FMTTYPE=image/jpeg:https://eyevee.org/press/wp-content/uploads/2024/10/arttech-flyer2-e1740334548136.jpg
END:VEVENT
END:VCALENDAR