BEGIN:VCALENDAR
VERSION:2.0
PRODID:-//EYEVEE - ECPv6.15.13.1//NONSGML v1.0//EN
CALSCALE:GREGORIAN
METHOD:PUBLISH
X-ORIGINAL-URL:https://eyevee.org
X-WR-CALDESC:Events for EYEVEE
REFRESH-INTERVAL;VALUE=DURATION:PT1H
X-Robots-Tag:noindex
X-PUBLISHED-TTL:PT1H
BEGIN:VTIMEZONE
TZID:America/New_York
BEGIN:DAYLIGHT
TZOFFSETFROM:-0500
TZOFFSETTO:-0400
TZNAME:EDT
DTSTART:20230312T070000
END:DAYLIGHT
BEGIN:STANDARD
TZOFFSETFROM:-0400
TZOFFSETTO:-0500
TZNAME:EST
DTSTART:20231105T060000
END:STANDARD
BEGIN:DAYLIGHT
TZOFFSETFROM:-0500
TZOFFSETTO:-0400
TZNAME:EDT
DTSTART:20240310T070000
END:DAYLIGHT
BEGIN:STANDARD
TZOFFSETFROM:-0400
TZOFFSETTO:-0500
TZNAME:EST
DTSTART:20241103T060000
END:STANDARD
BEGIN:DAYLIGHT
TZOFFSETFROM:-0500
TZOFFSETTO:-0400
TZNAME:EDT
DTSTART:20250309T070000
END:DAYLIGHT
BEGIN:STANDARD
TZOFFSETFROM:-0400
TZOFFSETTO:-0500
TZNAME:EST
DTSTART:20251102T060000
END:STANDARD
END:VTIMEZONE
BEGIN:VEVENT
DTSTART;TZID=America/New_York:20240802T170000
DTEND;TZID=America/New_York:20240802T200000
DTSTAMP:20260423T223041
CREATED:20240311T102954Z
LAST-MODIFIED:20250223T165622Z
UID:50683-1722618000-1722628800@eyevee.org
SUMMARY:August 2024 Gallery Night w/ Michael Callahan
DESCRIPTION:“Wind\, Waves + Water”  Seneca Stone Art by Michael Callahan with a live acoustic performance. \nIn early childhood\, I spent hours collecting shells and stones on various beaches around the US with my parents and grand parents. Searching for the right stones is a type of meditation. I am inspired by the vertically stacked shale-stones formed by waves near the waters edge of Seneca Lake. I like to think that my best work is achieved when I get out of the way of myself and let the stones take me where they want to go\, as close to nature as possible. \nMichael Callahan holds a degree in Industrial Design from The University Of The Arts in Philadelphia. He has studied landscape painting\, glass blowing\, blacksmithing\, woodworking and pottery. He spent 20 years designing products mainly in the housewares industry working on brands such as Steuben\, OXO\, All Clad\, Umbra\, Pyrex\, Revere and Oneida. He has lived on Seneca Lake for 20 years with his wife Mary. \nMade possible in part with funds from the New York State Council on the Arts\, administered by the Community Arts Partnership.
URL:https://eyevee.org/event/august-24-gallery-night-with-michael-callahan/
CATEGORIES:Gallery Nights,Live Music
ATTACH;FMTTYPE=:
END:VEVENT
END:VCALENDAR