BEGIN:VCALENDAR
VERSION:2.0
PRODID:-//EYEVEE - ECPv6.15.13.1//NONSGML v1.0//EN
CALSCALE:GREGORIAN
METHOD:PUBLISH
X-ORIGINAL-URL:https://eyevee.org
X-WR-CALDESC:Events for EYEVEE
REFRESH-INTERVAL;VALUE=DURATION:PT1H
X-Robots-Tag:noindex
X-PUBLISHED-TTL:PT1H
BEGIN:VTIMEZONE
TZID:UTC
BEGIN:STANDARD
TZOFFSETFROM:+0000
TZOFFSETTO:+0000
TZNAME:UTC
DTSTART:20250101T000000
END:STANDARD
END:VTIMEZONE
BEGIN:VEVENT
DTSTART;TZID=UTC:20260417T170000
DTEND;TZID=UTC:20260417T193000
DTSTAMP:20260423T191841
CREATED:20260414T015749Z
LAST-MODIFIED:20260414T015821Z
UID:51515-1776445200-1776454200@eyevee.org
SUMMARY:April 2026 :: Experimental Moving Image :: IV_Gallery :: o p e n h o u s e
DESCRIPTION:v e n u e \nIV Gallery @ Cortright Electric \n653 Elmira Road Ithaca\, between the graveyard and grayhaven motel\, rt. 13 \n  \no p e n h o u s e \nExperimental Moving Image Exhibition \n  \no p e n i n g\n\n\nFriday April 17th 5pm-7:30pm \ng a l l e r y  h o u r s \nSaturday April 18th noon- 5 pm  \n\n \n\nl o g i s t i c s     \nparking at cemetery preferred \nfront house by the road \nenter in the back \ntoilet at grayhaven \nrespect resident privacy \nthis machine kills fascists \n  \nExperimental Moving Image Exhibition @eyevee 4/17-18 \nART 3708 Experimental Moving Image class will have a two-day exhibition at to EyeVee Inlet Valley Arts Center organized by visiting critic Paulina Velázquez Solís. With a focus on video installation you will find works based on personal archives\, the calls from extinct species\, questions on beauty\, biometrics and the afterlife.   \nCome and experience the works by Jupiter Bhanot\, Cesaire Carroll-Dominguez\, Julia Cho\, Umi Chun\, Adowyn Ernste\, Emilia Morton\, Dahyun Ryu\, Bella Samtani\, Pat Sevikul\, Haotian Shi\, Kate Thorpe and Yuki Wang . \nOpening Friday 5pm-7:30pm \nGallery Hours: Saturday noon- 5 pm  \nEyeVee Inlet Valley Arts Center\,  653 Elmira Rd\, Ithaca NY. www.eyevee.org \nParking at cemetery preferred. No bathroom onsite\, use at Greyhaven Motel  \nPaulina Velázquez Solís \nVisiting Critic / Department of Art \nCollege of Architecture\, Art\, and Planning \nCornell University \nEmail: pv233@cornell.edu  Pronouns: she/her \nWebsite: www.multifungi.com \n  \n________
URL:https://eyevee.org/event/april-2026-experimental-moving-image-iv_gallery-o-p-e-n-h-o-u-s-e/
LOCATION:IV Gallery @ Cortright Electric\, 653 Elmira Rd.\, Ithaca\, NY\, 14850\, United States
CATEGORIES:IV Gallery
ATTACH;FMTTYPE=image/jpeg:https://eyevee.org/press/wp-content/uploads/2026/04/2026-04-experimental-moving-image.jpg
END:VEVENT
END:VCALENDAR