BEGIN:VCALENDAR
VERSION:2.0
PRODID:-//EYEVEE - ECPv6.15.13.1//NONSGML v1.0//EN
CALSCALE:GREGORIAN
METHOD:PUBLISH
X-ORIGINAL-URL:https://eyevee.org
X-WR-CALDESC:Events for EYEVEE
REFRESH-INTERVAL;VALUE=DURATION:PT1H
X-Robots-Tag:noindex
X-PUBLISHED-TTL:PT1H
BEGIN:VTIMEZONE
TZID:UTC
BEGIN:STANDARD
TZOFFSETFROM:+0000
TZOFFSETTO:+0000
TZNAME:UTC
DTSTART:20250101T000000
END:STANDARD
END:VTIMEZONE
BEGIN:VEVENT
DTSTART;TZID=UTC:20260425T180000
DTEND;TZID=UTC:20260425T210000
DTSTAMP:20260424T085038
CREATED:20260424T013033Z
LAST-MODIFIED:20260424T013452Z
UID:51519-1777140000-1777150800@eyevee.org
SUMMARY:April 2026 :: 2 EVENINGS of Art & Tech :: IV_Gallery :: a r t c l o s i n g
DESCRIPTION:Art that deals with information\, embodiment\, and technology has a long history. A group of students from the Information Science department at Cornell\, none with prior experience\, were challenged to make art with the materials of the information age. Join us for 2 EVENINGS of Art & Technology\, a show exploring what else can be made with contemporary materials.\n \nv e n u e\n\nIV Gallery @ Cortright Electric\n\n653 Elmira Road Ithaca\, between the graveyard and grayhaven motel\, rt. 13\n \na r t c l o s i n g\n2 EVENINGS of Art & Technology\n\n\n \nc l o s i n g\n\nSaturday April 25th 6:00-9:00pm\n\n\n\n\n\ng a l l e r y  h o u r s\nSaturday April 18th noon- 5 pm  \n\n\n\nl o g i s t i c s\nparking at cemetery preferred\nfront house by the road\nenter in the back\ntoilet at grayhaven\nrespect resident privacy\nthis machine kills fascists \n____________________ \n________
URL:https://eyevee.org/event/april-2026-2-evenings-of-art-tech-iv_gallery-a-r-t-c-l-o-s-i-n-g/
LOCATION:IV Gallery @ Cortright Electric\, 653 Elmira Rd.\, Ithaca\, NY\, 14850\, United States
CATEGORIES:IV Gallery
ATTACH;FMTTYPE=image/png:https://eyevee.org/press/wp-content/uploads/2026/04/202604_ART_TECH_FlyerFinal-resize-1200.png
END:VEVENT
END:VCALENDAR