BEGIN:VCALENDAR
VERSION:2.0
PRODID:-//EYEVEE - ECPv6.15.13.1//NONSGML v1.0//EN
CALSCALE:GREGORIAN
METHOD:PUBLISH
X-WR-CALNAME:EYEVEE
X-ORIGINAL-URL:https://eyevee.org
X-WR-CALDESC:Events for EYEVEE
REFRESH-INTERVAL;VALUE=DURATION:PT1H
X-Robots-Tag:noindex
X-PUBLISHED-TTL:PT1H
BEGIN:VTIMEZONE
TZID:America/New_York
BEGIN:DAYLIGHT
TZOFFSETFROM:-0500
TZOFFSETTO:-0400
TZNAME:EDT
DTSTART:20230312T070000
END:DAYLIGHT
BEGIN:STANDARD
TZOFFSETFROM:-0400
TZOFFSETTO:-0500
TZNAME:EST
DTSTART:20231105T060000
END:STANDARD
BEGIN:DAYLIGHT
TZOFFSETFROM:-0500
TZOFFSETTO:-0400
TZNAME:EDT
DTSTART:20240310T070000
END:DAYLIGHT
BEGIN:STANDARD
TZOFFSETFROM:-0400
TZOFFSETTO:-0500
TZNAME:EST
DTSTART:20241103T060000
END:STANDARD
BEGIN:DAYLIGHT
TZOFFSETFROM:-0500
TZOFFSETTO:-0400
TZNAME:EDT
DTSTART:20250309T070000
END:DAYLIGHT
BEGIN:STANDARD
TZOFFSETFROM:-0400
TZOFFSETTO:-0500
TZNAME:EST
DTSTART:20251102T060000
END:STANDARD
END:VTIMEZONE
BEGIN:VEVENT
DTSTART;TZID=America/New_York:20241004T170000
DTEND;TZID=America/New_York:20241004T200000
DTSTAMP:20260425T013648
CREATED:20240311T110016Z
LAST-MODIFIED:20250223T165506Z
UID:50688-1728061200-1728072000@eyevee.org
SUMMARY:October 2024 Gallery Night w/ Bethany Parisi
DESCRIPTION:In this debut exhibition\, Bethany Parisi invites viewers into the tranquil world of her pine relief carvings where each relief feels like a cherished heirloom. Parisi invites viewers to experience the peace and joy she finds in translating the natural world into timeless folk art. \n  \nMade possible in part with funds from the New York State Council on the Arts\, administered by the Community Arts Partnership.
URL:https://eyevee.org/event/october-24-gallery-night-with-bethany-parisi/
CATEGORIES:Gallery Nights
ATTACH;FMTTYPE=:
END:VEVENT
END:VCALENDAR