BEGIN:VCALENDAR
VERSION:2.0
PRODID:-//EYEVEE - ECPv6.15.13.1//NONSGML v1.0//EN
CALSCALE:GREGORIAN
METHOD:PUBLISH
X-ORIGINAL-URL:https://eyevee.org
X-WR-CALDESC:Events for EYEVEE
REFRESH-INTERVAL;VALUE=DURATION:PT1H
X-Robots-Tag:noindex
X-PUBLISHED-TTL:PT1H
BEGIN:VTIMEZONE
TZID:America/New_York
BEGIN:DAYLIGHT
TZOFFSETFROM:-0500
TZOFFSETTO:-0400
TZNAME:EDT
DTSTART:20230312T070000
END:DAYLIGHT
BEGIN:STANDARD
TZOFFSETFROM:-0400
TZOFFSETTO:-0500
TZNAME:EST
DTSTART:20231105T060000
END:STANDARD
BEGIN:DAYLIGHT
TZOFFSETFROM:-0500
TZOFFSETTO:-0400
TZNAME:EDT
DTSTART:20240310T070000
END:DAYLIGHT
BEGIN:STANDARD
TZOFFSETFROM:-0400
TZOFFSETTO:-0500
TZNAME:EST
DTSTART:20241103T060000
END:STANDARD
BEGIN:DAYLIGHT
TZOFFSETFROM:-0500
TZOFFSETTO:-0400
TZNAME:EDT
DTSTART:20250309T070000
END:DAYLIGHT
BEGIN:STANDARD
TZOFFSETFROM:-0400
TZOFFSETTO:-0500
TZNAME:EST
DTSTART:20251102T060000
END:STANDARD
END:VTIMEZONE
BEGIN:VEVENT
DTSTART;TZID=America/New_York:20240705T170000
DTEND;TZID=America/New_York:20240705T200000
DTSTAMP:20260425T031741
CREATED:20240311T102704Z
LAST-MODIFIED:20250223T165659Z
UID:50681-1720198800-1720209600@eyevee.org
SUMMARY:July 2024 Gallery Night w/ Julia Degroat
DESCRIPTION:Julia DeGroat moved to Ithaca in 1995 after completing a Bachelor of Fine Arts as a Chairman’s Merit Award Scholar from the School of Visual Arts in New York City. She makes a living as an artist\, creating hand-lettered signs & murals for local businesses\, portraits and a bit of interior decorating- including Ithaca restaurants Mercato and Cafe Cent Dix. Most recent paintings explore light and the beauty of our natural world\, with an emphasis on local flora\, fauna and food. \nJulia ultimately plans to travel to Africa to help apes and other endangered species through her art. \nJoin us in the Grayhaven Lounge for “Living Color\,”  acrylics by Julia DeGroat.  5pm to 8pm on Friday July 5th. \nThis program is made possible (in part or in full) with funds from the Statewide Community Regrant\nprogram from the New York State Council on the Arts\, with the support of the office of the Governor\nand NYS Legislature\, administered by the Community Arts Partnership of Tompkins County.
URL:https://eyevee.org/event/july-24-gallery-night-with-julia-degroat/
CATEGORIES:Gallery Nights
ATTACH;FMTTYPE=:
END:VEVENT
END:VCALENDAR